BEGIN:VCALENDAR
VERSION:2.0
METHOD:PUBLISH
PRODID:-//imacoda.com//SPD-Web-O-Mat//EN
CALSCALE:GREGORIAN
BEGIN:VTIMEZONE
TZID:Europe/Berlin
BEGIN:DAYLIGHT
TZOFFSETFROM:+0100
RRULE:FREQ=YEARLY;BYMONTH=3;BYDAY=-1SU
DTSTART:19810329T020000
TZNAME:MESZ
TZOFFSETTO:+0200
END:DAYLIGHT
BEGIN:STANDARD
TZOFFSETFROM:+0200
RRULE:FREQ=YEARLY;BYMONTH=10;BYDAY=-1SU
DTSTART:19961027T030000
TZNAME:MEZ
TZOFFSETTO:+0100
END:STANDARD
END:VTIMEZONE
BEGIN:VEVENT
UID:20220420T073306Z-00000776311-LULU@www.bayernspd.de
CREATED:20220420T073306Z
LAST-MODIFIED:20220420T074407Z
DTSTAMP:20220420T074407Z
TRANSP:TRANSPARENT
DTSTART;TZID=Europe/Berlin:20220426T193000
DTEND;TZID=Europe/Berlin:20220426T193000
SUMMARY:AK Umwelt und Energie
LOCATION:Online (Zoom)
DESCRIPTION:Termin im Web (SPD-Unterbezirk München-Stadt):\nhttps://spd-
 muenchen.de/termine/?id=776311
END:VEVENT
END:VCALENDAR
