BEGIN:VCALENDAR
VERSION:2.0
METHOD:PUBLISH
PRODID:-//imacoda.com//SPD-Web-O-Mat//EN
CALSCALE:GREGORIAN
BEGIN:VTIMEZONE
TZID:Europe/Berlin
BEGIN:DAYLIGHT
TZOFFSETFROM:+0100
RRULE:FREQ=YEARLY;BYMONTH=3;BYDAY=-1SU
DTSTART:19810329T020000
TZNAME:MESZ
TZOFFSETTO:+0200
END:DAYLIGHT
BEGIN:STANDARD
TZOFFSETFROM:+0200
RRULE:FREQ=YEARLY;BYMONTH=10;BYDAY=-1SU
DTSTART:19961027T030000
TZNAME:MEZ
TZOFFSETTO:+0100
END:STANDARD
END:VTIMEZONE
BEGIN:VEVENT
UID:20220419T130115Z-00000775964-LULU@www.bayernspd.de
CREATED:20220419T130115Z
LAST-MODIFIED:20220419T130258Z
DTSTAMP:20220419T130258Z
TRANSP:TRANSPARENT
DTSTART;TZID=Europe/Berlin:20220427T190000
DTEND;TZID=Europe/Berlin:20220427T190000
SUMMARY:AK Wohnen
LOCATION:online (Webex)
DESCRIPTION:Termin im Web (SPD-Unterbezirk München-Stadt):\nhttps://spd-
 muenchen.de/termine/?id=775964
END:VEVENT
END:VCALENDAR
