BEGIN:VCALENDAR
VERSION:2.0
METHOD:PUBLISH
PRODID:-//imacoda.com//SPD-Web-O-Mat//EN
CALSCALE:GREGORIAN
BEGIN:VTIMEZONE
TZID:Europe/Berlin
BEGIN:DAYLIGHT
TZOFFSETFROM:+0100
RRULE:FREQ=YEARLY;BYMONTH=3;BYDAY=-1SU
DTSTART:19810329T020000
TZNAME:MESZ
TZOFFSETTO:+0200
END:DAYLIGHT
BEGIN:STANDARD
TZOFFSETFROM:+0200
RRULE:FREQ=YEARLY;BYMONTH=10;BYDAY=-1SU
DTSTART:19961027T030000
TZNAME:MEZ
TZOFFSETTO:+0100
END:STANDARD
END:VTIMEZONE
BEGIN:VEVENT
UID:20260421T123809Z-00001187505-LULU@www.bayernspd.de
CREATED:20260421T123809Z
LAST-MODIFIED:20260421T123836Z
DTSTAMP:20260421T123836Z
TRANSP:TRANSPARENT
DTSTART;TZID=Europe/Berlin:20260430T170000
DTEND;TZID=Europe/Berlin:20260430T190000
SUMMARY:Jusos München: Bannermalen für den 1. Mai
LOCATION:Sitzungssaal\, Oberanger 38\, 4. OG\, 80331 München
DESCRIPTION:Termin im Web (SPD-Unterbezirk München-Stadt):\nhttps://spd-
 muenchen.de/termine/?id=1187505
END:VEVENT
END:VCALENDAR
