BEGIN:VCALENDAR
VERSION:2.0
METHOD:PUBLISH
PRODID:-//imacoda.com//SPD-Web-O-Mat//EN
CALSCALE:GREGORIAN
BEGIN:VTIMEZONE
TZID:Europe/Berlin
BEGIN:DAYLIGHT
TZOFFSETFROM:+0100
RRULE:FREQ=YEARLY;BYMONTH=3;BYDAY=-1SU
DTSTART:19810329T020000
TZNAME:MESZ
TZOFFSETTO:+0200
END:DAYLIGHT
BEGIN:STANDARD
TZOFFSETFROM:+0200
RRULE:FREQ=YEARLY;BYMONTH=10;BYDAY=-1SU
DTSTART:19961027T030000
TZNAME:MEZ
TZOFFSETTO:+0100
END:STANDARD
END:VTIMEZONE
BEGIN:VEVENT
UID:20251202T094023Z-00001151513-LULU@www.bayernspd.de
CREATED:20251202T094023Z
LAST-MODIFIED:20260102T081325Z
DTSTAMP:20260102T081325Z
TRANSP:TRANSPARENT
DTSTART;TZID=Europe/Berlin:20260106T110000
DTEND;TZID=Europe/Berlin:20260106T110000
SUMMARY:Dreikönigstreffen mit Oberbürgermeister Dieter Reiter
LOCATION:Hofbräukeller (Festsaal 1. OG)\, Innere Wiener Straße 19\,  816
 67 München
DESCRIPTION:Termin im Web (SPD-Unterbezirk München-Stadt):\nhttps://spd-
 muenchen.de/termine/?id=1151513
END:VEVENT
END:VCALENDAR
