BEGIN:VCALENDAR
VERSION:2.0
METHOD:PUBLISH
PRODID:-//imacoda.com//SPD-Web-O-Mat//EN
CALSCALE:GREGORIAN
BEGIN:VTIMEZONE
TZID:Europe/Berlin
BEGIN:DAYLIGHT
TZOFFSETFROM:+0100
RRULE:FREQ=YEARLY;BYMONTH=3;BYDAY=-1SU
DTSTART:19810329T020000
TZNAME:MESZ
TZOFFSETTO:+0200
END:DAYLIGHT
BEGIN:STANDARD
TZOFFSETFROM:+0200
RRULE:FREQ=YEARLY;BYMONTH=10;BYDAY=-1SU
DTSTART:19961027T030000
TZNAME:MEZ
TZOFFSETTO:+0100
END:STANDARD
END:VTIMEZONE
BEGIN:VEVENT
UID:20251031T110101Z-00001145043-LULU@www.bayernspd.de
CREATED:20251031T110101Z
LAST-MODIFIED:20251112T101940Z
DTSTAMP:20251112T101940Z
TRANSP:TRANSPARENT
DTSTART;TZID=Europe/Berlin:20251114T160000
DTEND;TZID=Europe/Berlin:20251114T180000
SUMMARY:Sprechstunde mit der Fraktionsvorsitzenden Anne Hübner
LOCATION:MorgenRot\, Oberanger 38\, EG\, 80331 München
DESCRIPTION:Termin im Web (SPD-Unterbezirk München-Stadt):\nhttps://spd-
 muenchen.de/termine/?id=1145043
END:VEVENT
END:VCALENDAR
